BEGIN:VCALENDAR
VERSION:2.0
PRODID:-//Responsus - ECPv6.8.3//NONSGML v1.0//EN
CALSCALE:GREGORIAN
METHOD:PUBLISH
X-WR-CALNAME:Responsus
X-ORIGINAL-URL:https://responsus.org
X-WR-CALDESC:Events for Responsus
REFRESH-INTERVAL;VALUE=DURATION:PT1H
X-Robots-Tag:noindex
X-PUBLISHED-TTL:PT1H
BEGIN:VTIMEZONE
TZID:Europe/Helsinki
BEGIN:DAYLIGHT
TZOFFSETFROM:+0200
TZOFFSETTO:+0300
TZNAME:EEST
DTSTART:20260329T010000
END:DAYLIGHT
BEGIN:STANDARD
TZOFFSETFROM:+0300
TZOFFSETTO:+0200
TZNAME:EET
DTSTART:20261025T010000
END:STANDARD
END:VTIMEZONE
BEGIN:VEVENT
DTSTART;VALUE=DATE:20260225
DTEND;VALUE=DATE:20260227
DTSTAMP:20260425T170649
CREATED:20250911T083602Z
LAST-MODIFIED:20250911T094329Z
UID:1870-1771977600-1772150399@responsus.org
SUMMARY:CLADES Congress 2
DESCRIPTION:The second edition of the CLADES Congress will take place on the 25-26 February 2026 in Ghent\, Belgium.\nThe Call for Contribution is still open! Check the information here
URL:https://responsus.org/event/clades-congress-2/
LOCATION:Ghent University\, Sint-Pietersnieuwstraat 33\, 9000 Gent\, Belgium\, Gent\, 9000\, Belgium
ORGANIZER;CN="CLADES Ghent project":MAILTO:clades@ugent.be.
END:VEVENT
END:VCALENDAR